BEGIN:VCALENDAR
VERSION:2.0
PRODID:-//Ask NISA - ECPv6.3.3.1//NONSGML v1.0//EN
CALSCALE:GREGORIAN
METHOD:PUBLISH
X-WR-CALNAME:Ask NISA
X-ORIGINAL-URL:https://staging.asknisa.org
X-WR-CALDESC:Events for Ask NISA
REFRESH-INTERVAL;VALUE=DURATION:PT1H
X-Robots-Tag:noindex
X-PUBLISHED-TTL:PT1H
BEGIN:VTIMEZONE
TZID:America/Los_Angeles
BEGIN:DAYLIGHT
TZOFFSETFROM:-0800
TZOFFSETTO:-0700
TZNAME:PDT
DTSTART:20210314T100000
END:DAYLIGHT
BEGIN:STANDARD
TZOFFSETFROM:-0700
TZOFFSETTO:-0800
TZNAME:PST
DTSTART:20211107T090000
END:STANDARD
END:VTIMEZONE
BEGIN:VEVENT
DTSTART;TZID=America/Los_Angeles:20210926T140000
DTEND;TZID=America/Los_Angeles:20210926T163000
DTSTAMP:20260423T000145
CREATED:20210819T123903Z
LAST-MODIFIED:20210819T123903Z
UID:2179-1632664800-1632673800@staging.asknisa.org
SUMMARY:Community Resilience: From Surviving to Thriving
DESCRIPTION:Interested in Sponsoring the event? Visit asknisa.org/sponsor.\n\n\n\n\n\n\nJoin us for our annual event\, Community Resilience: From Surviving to Thriving\, with Noha Alshugairi\, a Licensed Marriage & Family Therapist\, and Amin Aaser\, founder and Executive Director of Noor Kids.\n\nAgenda\nRegistration\nLunch\nRecitation\nWelcome – Faiza J Ghafoor\, Executive Director \nBreak Into Parallel Sessions:\nAdults with Sister Noha Alshugairi – M.S.\, LMFT\nYouth with Br.Amin G Aaser – Executive Director Noor Kids \nNISA Presentation: Saha Jamshed\, Program Manager\nDua: Imam Tahir Anwar\, President\nClose: Faiza J Ghafoor\, Executive Director\nBook Signing \nDue to COVID-19\, tickets for this event are limited. We highly recommend attendees to wear masks and practice social distancing.
URL:https://staging.asknisa.org/event/annual-event/
END:VEVENT
END:VCALENDAR