BEGIN:VCALENDAR
VERSION:2.0
PRODID:-//Ask NISA - ECPv6.3.3.1//NONSGML v1.0//EN
CALSCALE:GREGORIAN
METHOD:PUBLISH
X-ORIGINAL-URL:https://staging.asknisa.org
X-WR-CALDESC:Events for Ask NISA
REFRESH-INTERVAL;VALUE=DURATION:PT1H
X-Robots-Tag:noindex
X-PUBLISHED-TTL:PT1H
BEGIN:VTIMEZONE
TZID:America/Los_Angeles
BEGIN:DAYLIGHT
TZOFFSETFROM:-0800
TZOFFSETTO:-0700
TZNAME:PDT
DTSTART:20220313T100000
END:DAYLIGHT
BEGIN:STANDARD
TZOFFSETFROM:-0700
TZOFFSETTO:-0800
TZNAME:PST
DTSTART:20221106T090000
END:STANDARD
END:VTIMEZONE
BEGIN:VEVENT
DTSTART;TZID=America/Los_Angeles:20220330T110000
DTEND;TZID=America/Los_Angeles:20220330T120000
DTSTAMP:20260426T040247
CREATED:20220329T204147Z
LAST-MODIFIED:20220329T204147Z
UID:3585-1648638000-1648641600@staging.asknisa.org
SUMMARY:Mind\, Matter and the Soul
DESCRIPTION:  \n\n\n\n\nRania Awaad\, MDDirector\, Stanford Muslim Mental Health & Islamic Psychology Lab\nExecutive Director\, MaristanA conversation with Dr. Rania Awwad about her multi-faceted work in celebration of international women’s day.  \nDr. Rania Awaad M.D.\, is a Clinical Associate Professor of Psychiatry at the Stanford University School of Medicine where she is the Director of the Stanford Muslim Mental Health & Islamic Psychology Lab\, Associate Chief of the Division of Public Mental Health and Population Sciences\, and Co-Chief of the Diversity and Cultural Mental Health Section. She is also the Executive Director of Maristan\, a non-profit organization dedicated to reviving the Islamic heritage of holistic wellbeing. She is currently a Senior Fellow at Yaqeen Institute and ISPU. In addition\, she serves as the Director of The Rahmah Foundation\, a non-profit organization dedicated to educating Muslim women and girls. She has previously served as the founding Clinical Director of the Khalil Center-San Francisco as well as a Professor of Islamic Law at Zaytuna College. Prior to studying medicine\, she pursued classical Islamic studies in Damascus\, Syria and holds certifications (ijaza) in Qur’an\, Islamic Law and other branches of the Islamic Sciences. Follow her @Dr.RaniaAwaad \n  \nJoin here: asknisa.org/live
URL:https://staging.asknisa.org/event/mind-matter-and-the-soul/
END:VEVENT
END:VCALENDAR